BEGIN:VCALENDAR
VERSION:2.0
PRODID:-//hacksw/handcal//NONSGML v1.0//EN
CALSCALE:GREGORIAN
BEGIN:VEVENT
UID:69e95c9473e03
DTSTAMP:20260422T234108Z
DESCRIPTION:
SUMMARY:Zumba Group Fitness Class
DTSTART:20260428T223000Z
DTEND:20260429T035959Z
END:VEVENT
END:VCALENDAR
