BEGIN:VCALENDAR
VERSION:2.0
PRODID:-//hacksw/handcal//NONSGML v1.0//EN
CALSCALE:GREGORIAN
BEGIN:VEVENT
UID:69e95bc7930db
DTSTAMP:20260422T233743Z
DESCRIPTION:
SUMMARY:Yoga Group Fitness Class
DTSTART:20260518T220000Z
DTEND:20260519T035959Z
END:VEVENT
END:VCALENDAR
