BEGIN:VCALENDAR
VERSION:2.0
PRODID:-//hacksw/handcal//NONSGML v1.0//EN
CALSCALE:GREGORIAN
BEGIN:VEVENT
UID:69eb749b3d0d4
DTSTAMP:20260424T134811Z
DESCRIPTION:
SUMMARY:Yoga Group Fitness Class
DTSTART:20260511T220000Z
DTEND:20260512T035959Z
END:VEVENT
END:VCALENDAR
