BEGIN:VCALENDAR
VERSION:2.0
PRODID:-//hacksw/handcal//NONSGML v1.0//EN
CALSCALE:GREGORIAN
BEGIN:VEVENT
UID:69eb7572845ab
DTSTAMP:20260424T135146Z
DESCRIPTION:
SUMMARY:Yoga Group Fitness Class
DTSTART:20260504T220000Z
DTEND:20260505T035959Z
END:VEVENT
END:VCALENDAR
