BEGIN:VCALENDAR
VERSION:2.0
PRODID:-//hacksw/handcal//NONSGML v1.0//EN
CALSCALE:GREGORIAN
BEGIN:VEVENT
UID:69e65fc6b31d2
DTSTAMP:20260420T171758Z
DESCRIPTION:
SUMMARY:Yoga Group Fitness Class
DTSTART:20260427T220000Z
DTEND:20260428T035959Z
END:VEVENT
END:VCALENDAR
