BEGIN:VCALENDAR
VERSION:2.0
PRODID:-//hacksw/handcal//NONSGML v1.0//EN
CALSCALE:GREGORIAN
BEGIN:VEVENT
UID:69eb760a5e725
DTSTAMP:20260424T135418Z
DESCRIPTION:
SUMMARY:Yoga Group Fitness Class
DTSTART:20260524T153000Z
DTEND:20260525T035959Z
END:VEVENT
END:VCALENDAR
