BEGIN:VCALENDAR
VERSION:2.0
PRODID:-//hacksw/handcal//NONSGML v1.0//EN
CALSCALE:GREGORIAN
BEGIN:VEVENT
UID:69e95daaa2bed
DTSTAMP:20260422T234546Z
DESCRIPTION:
SUMMARY:Yoga Group Fitness Class
DTSTART:20260510T153000Z
DTEND:20260511T035959Z
END:VEVENT
END:VCALENDAR
