BEGIN:VCALENDAR
VERSION:2.0
PRODID:-//hacksw/handcal//NONSGML v1.0//EN
CALSCALE:GREGORIAN
BEGIN:VEVENT
UID:69e95b60a4119
DTSTAMP:20260422T233600Z
DESCRIPTION:
SUMMARY:Yoga Group Fitness Class
DTSTART:20260426T153000Z
DTEND:20260427T035959Z
END:VEVENT
END:VCALENDAR
