BEGIN:VCALENDAR
VERSION:2.0
PRODID:-//hacksw/handcal//NONSGML v1.0//EN
CALSCALE:GREGORIAN
BEGIN:VEVENT
UID:69e4e20762fd1
DTSTAMP:20260419T140911Z
DESCRIPTION:
SUMMARY:Yoga Group Fitness Class
DTSTART:20260419T153000Z
DTEND:20260420T035959Z
END:VEVENT
END:VCALENDAR
