BEGIN:VCALENDAR
VERSION:2.0
PRODID:-//hacksw/handcal//NONSGML v1.0//EN
CALSCALE:GREGORIAN
BEGIN:VEVENT
UID:69e66a765f6bd
DTSTAMP:20260420T180334Z
DESCRIPTION:On April 25th 1pm-2:30pm come join RA Ky in ABOX to to create vision boards and learn about how to make smart goals\, why they're important and how to apply them to your life outside of MICA! As the end of the semester approaches it's important to reflect not only on your academic goals but your personal goals as well. School can be very time consuming and often students forget the things they wanted to achieve outside of school. Snacks\, Drinks and Supplies will be provided!
SUMMARY:Planning For Success! 
DTSTART:20260425T170000Z
DTEND:20260425T183000Z
END:VEVENT
END:VCALENDAR
