BEGIN:VCALENDAR
VERSION:2.0
PRODID:-//hacksw/handcal//NONSGML v1.0//EN
CALSCALE:GREGORIAN
BEGIN:VEVENT
UID:69eb74068ad27
DTSTAMP:20260424T134542Z
DESCRIPTION:
SUMMARY:Pilates Group Fitness Class
DTSTART:20260521T210000Z
DTEND:20260522T035959Z
END:VEVENT
END:VCALENDAR
