BEGIN:VCALENDAR
VERSION:2.0
PRODID:-//hacksw/handcal//NONSGML v1.0//EN
CALSCALE:GREGORIAN
BEGIN:VEVENT
UID:69e4e20783d1c
DTSTAMP:20260419T140911Z
DESCRIPTION:
SUMMARY:Pilates Group Fitness Class
DTSTART:20260507T210000Z
DTEND:20260508T035959Z
END:VEVENT
END:VCALENDAR
