BEGIN:VCALENDAR
VERSION:2.0
PRODID:-//hacksw/handcal//NONSGML v1.0//EN
CALSCALE:GREGORIAN
BEGIN:VEVENT
UID:69e95bfbd139b
DTSTAMP:20260422T233835Z
DESCRIPTION:
SUMMARY:Pilates Group Fitness Class
DTSTART:20260430T210000Z
DTEND:20260501T035959Z
END:VEVENT
END:VCALENDAR
