BEGIN:VCALENDAR
VERSION:2.0
PRODID:-//hacksw/handcal//NONSGML v1.0//EN
CALSCALE:GREGORIAN
BEGIN:VEVENT
UID:69ebb429ad462
DTSTAMP:20260424T181921Z
DESCRIPTION:
Join us for a celebration of video works created by Maryland Institute College of Art's Creative Media Production (CMP) students for the SNF Parkway Theater. A collaborative response with artist Adam Stab&rsquo\;s mural Film For All. Videos are presented at sundown viewable from Charles Street on the windows directly above Stab&rsquo\;s mural. Organized by CMP faculty\, Nadia Hironaka &amp\; Andrew Keiper\, supported by the SNF Parkway Theater\, Maryland Institute College of Art and the Ratcliffe Center for Creative Entrepreneurship.
&nbsp\;
Featuring work by: Marigny Adelman\,&nbsp\;Chara Agnes\,&nbsp\;Immy Bell\,&nbsp\;Echo&nbsp\;Qianxun\,&nbsp\;Yunan Li &nbsp\;(Lillian Li)\,&nbsp\;Aloysius Liu\,&nbsp\;Theadora Osborn\,&nbsp\;Ky Perez\,&nbsp\;Adeline Rhall\,&nbsp\;Boopit\,&nbsp\;Sarya Faroug Yassin Suliman\,&nbsp\;Logic Thompson\,&nbsp\;Alicia Ureta\,&nbsp\;Luo Xia\, and&nbsp\;Jiyu Zhang (Jerry Zhang)
&nbsp\;
Special thanks to Adam Stab\, Nancy Proctor\, Jimmie Thomas\, Anne Ishii\, Jason Charney\, Emmet Foley and MICA&rsquo\;s Animation and Media Arts Department.
&nbsp\;

Musical performance at 7:30pm courtesy of Media Rhythm&nbsp\;Institute
&nbsp\;


Design credit: Adeline Rhall
SUMMARY:Parkway Showdown/ A Window Projection Reception
DTSTART:20260430T230000Z
DTEND:20260501T003000Z
END:VEVENT
END:VCALENDAR
