BEGIN:VCALENDAR
VERSION:2.0
PRODID:-//hacksw/handcal//NONSGML v1.0//EN
CALSCALE:GREGORIAN
BEGIN:VEVENT
UID:69ebaf508cc55
DTSTAMP:20260424T175840Z
DESCRIPTION:In honor of our sabbatical colleague who normally runs our all night sound\, music and projection event here at MICA\, the Interactive Arts and Sound Art department are hosting Hiatus--a night of live sound art and music from guest performers Air Wire and MICA Students from IA 385 - Live Electronic Music and Media and the Electronic Music Club.
SUMMARY:Hiatus
DTSTART:20260426T000000Z
DTEND:20260426T035900Z
END:VEVENT
END:VCALENDAR
