BEGIN:VCALENDAR
VERSION:2.0
PRODID:-//hacksw/handcal//NONSGML v1.0//EN
CALSCALE:GREGORIAN
BEGIN:VEVENT
UID:69e4e1cb1dd13
DTSTAMP:20260419T140811Z
DESCRIPTION:Learn how to mend\, embroider\, and create using common stitches while enjoying snacks with RA Mya.
SUMMARY:Growing by Sewing
DTSTART:20260506T200000Z
DTEND:20260506T210000Z
END:VEVENT
END:VCALENDAR
