BEGIN:VCALENDAR
VERSION:2.0
PRODID:-//hacksw/handcal//NONSGML v1.0//EN
CALSCALE:GREGORIAN
BEGIN:VEVENT
UID:69e95af5413c9
DTSTAMP:20260422T233413Z
DESCRIPTION:Please join us for a reception from 5&ndash\;7pm on June 24\, 2026 in the Riggs/Leidy Gallery to celebrate the culminating work of students from the Studio Art/MFAST Program.
SUMMARY:Grad Show IV Reception: Studio Art/MFAST
DTSTART:20260624T210000Z
DTEND:20260624T230000Z
END:VEVENT
END:VCALENDAR
