BEGIN:VCALENDAR
VERSION:2.0
PRODID:-//hacksw/handcal//NONSGML v1.0//EN
CALSCALE:GREGORIAN
BEGIN:VEVENT
UID:69ebf6d715d89
DTSTAMP:20260424T230351Z
DESCRIPTION:Join us to celebrate the public opening of gallery alley -- MICA&rsquo\;s new open-air gallery for art and ecology! gallery alley transforms a MICA-owned segment of the neglected West Trenton Street (located between Falls Road and Maryland Avenue) into an open-air art and greenspace celebrating cultural and ecological heritage. gallery alley features creative work by MICA alumni\, faculty\, staff\, and students\, celebrating the rich cultural and ecological heritage of the nearby Jones Falls River and surrounding Station North Arts District. The gallery alley opening celebration is free and open to the public but RSVP is preferred: https://galleryalley.eventbrite.com
SUMMARY:gallery alley - public opening celebration
DTSTART:20260509T220000Z
DTEND:20260510T010000Z
END:VEVENT
END:VCALENDAR
