BEGIN:VCALENDAR
VERSION:2.0
PRODID:-//hacksw/handcal//NONSGML v1.0//EN
CALSCALE:GREGORIAN
BEGIN:VEVENT
UID:69eb740cd1512
DTSTAMP:20260424T134548Z
DESCRIPTION:
SUMMARY:Boxing Bootcamp Group Fitness Class
DTSTART:20260515T210000Z
DTEND:20260516T035959Z
END:VEVENT
END:VCALENDAR
