BEGIN:VCALENDAR
VERSION:2.0
PRODID:-//hacksw/handcal//NONSGML v1.0//EN
CALSCALE:GREGORIAN
BEGIN:VEVENT
UID:69e95b0718483
DTSTAMP:20260422T233431Z
DESCRIPTION:
SUMMARY:Boxing Bootcamp Group Fitness Class
DTSTART:20260508T210000Z
DTEND:20260509T035959Z
END:VEVENT
END:VCALENDAR
