BEGIN:VCALENDAR
VERSION:2.0
PRODID:-//hacksw/handcal//NONSGML v1.0//EN
CALSCALE:GREGORIAN
BEGIN:VEVENT
UID:69e95ca155483
DTSTAMP:20260422T234121Z
DESCRIPTION:
SUMMARY:Boxing Bootcamp Group Fitness Class
DTSTART:20260424T210000Z
DTEND:20260425T035959Z
END:VEVENT
END:VCALENDAR
