BEGIN:VCALENDAR
VERSION:2.0
PRODID:-//hacksw/handcal//NONSGML v1.0//EN
CALSCALE:GREGORIAN
BEGIN:VEVENT
UID:69e7be938607b
DTSTAMP:20260421T181443Z
DESCRIPTION:Six short films by 18 animators and 11 scientists!!! Brought to you by Maryland Institute College of Art Astro-Animators in conjunction with scientists at NASA GSFC. MICA students will debut their new animations with you and discuss their process for creating these masterpieces. The animations will cover Hunting for Methane on Mars\, Mystery Absorbers on Venus\, Space Weather and Deadly Auroras\, Black Hole Jets\, Signs of Life on Exoplanets\, and Dark Matter. After the 30-minute screening\, there will be a Question-and-Answer session where the students will also be happy to discuss how to become an animator! Coloring sheets from the films and crayons will be available. Attendance in person recommended\, but the event will also be live streamed at:https://video.ibm.com/channel/nasa-gsfc-science-and-exploration Hosted by Laurence Arcadias (MICA/NASA GSFC) and Robin Corbet (NASA GSFC/UMBC/MICA)
SUMMARY:Astro-Animation Showcase &#039\;26 - Animating the Mysteries of the Universe! by MICA animation students
DTSTART:20260423T160000Z
DTEND:20260423T170000Z
END:VEVENT
END:VCALENDAR
